BEGIN:VCALENDAR
VERSION:2.0
PRODID:-//CDU-Kreisverband Hamburg-Nord - ECPv6.15.19//NONSGML v1.0//EN
CALSCALE:GREGORIAN
METHOD:PUBLISH
X-WR-CALNAME:CDU-Kreisverband Hamburg-Nord
X-ORIGINAL-URL:https://www.cduhamburgnord.de
X-WR-CALDESC:Veranstaltungen für CDU-Kreisverband Hamburg-Nord
REFRESH-INTERVAL;VALUE=DURATION:PT1H
X-Robots-Tag:noindex
X-PUBLISHED-TTL:PT1H
BEGIN:VTIMEZONE
TZID:Europe/Berlin
BEGIN:DAYLIGHT
TZOFFSETFROM:+0100
TZOFFSETTO:+0200
TZNAME:CEST
DTSTART:20230326T010000
END:DAYLIGHT
BEGIN:STANDARD
TZOFFSETFROM:+0200
TZOFFSETTO:+0100
TZNAME:CET
DTSTART:20231029T010000
END:STANDARD
BEGIN:DAYLIGHT
TZOFFSETFROM:+0100
TZOFFSETTO:+0200
TZNAME:CEST
DTSTART:20240331T010000
END:DAYLIGHT
BEGIN:STANDARD
TZOFFSETFROM:+0200
TZOFFSETTO:+0100
TZNAME:CET
DTSTART:20241027T010000
END:STANDARD
BEGIN:DAYLIGHT
TZOFFSETFROM:+0100
TZOFFSETTO:+0200
TZNAME:CEST
DTSTART:20250330T010000
END:DAYLIGHT
BEGIN:STANDARD
TZOFFSETFROM:+0200
TZOFFSETTO:+0100
TZNAME:CET
DTSTART:20251026T010000
END:STANDARD
END:VTIMEZONE
BEGIN:VEVENT
DTSTART;TZID=Europe/Berlin:20241116T100000
DTEND;TZID=Europe/Berlin:20241116T120000
DTSTAMP:20260421T211349
CREATED:20240423T133249Z
LAST-MODIFIED:20240516T161137Z
UID:10000822-1731751200-1731758400@www.cduhamburgnord.de
SUMMARY:OV Winterhude - Infostand ("Tag der CDU")
DESCRIPTION:
URL:https://www.cduhamburgnord.de/termin/ov-winterhude-infostand-tag-der-cdu-3/
LOCATION:Goldbekplatz\, Hamburg
END:VEVENT
BEGIN:VEVENT
DTSTART;TZID=Europe/Berlin:20241116T100000
DTEND;TZID=Europe/Berlin:20241116T120000
DTSTAMP:20260421T211349
CREATED:20240920T094914Z
LAST-MODIFIED:20240920T094914Z
UID:10000902-1731751200-1731758400@www.cduhamburgnord.de
SUMMARY:OV Langenhorn - Infostand ("Tag der CDU")
DESCRIPTION:
URL:https://www.cduhamburgnord.de/termin/ov-langenhorn-infostand-tag-der-cdu-4/
LOCATION:Langenhorner Markt 5a\, Hamburg
END:VEVENT
BEGIN:VEVENT
DTSTART;TZID=Europe/Berlin:20241116T100000
DTEND;TZID=Europe/Berlin:20241116T120000
DTSTAMP:20260421T211349
CREATED:20241018T103234Z
LAST-MODIFIED:20241018T105158Z
UID:10000920-1731751200-1731758400@www.cduhamburgnord.de
SUMMARY:OV Fuhlsbüttel / Ohlsdorf / Klein Borstel - Infostand ("Tag der CDU")
DESCRIPTION:
URL:https://www.cduhamburgnord.de/termin/ov-fuhlsbuettel-ohlsdorf-klein-borstel-infostand-2/
LOCATION:Tornberg 37a\, Hamburg
END:VEVENT
BEGIN:VEVENT
DTSTART;TZID=Europe/Berlin:20241116T100000
DTEND;TZID=Europe/Berlin:20241116T120000
DTSTAMP:20260421T211349
CREATED:20241112T205407Z
LAST-MODIFIED:20241112T205407Z
UID:10000928-1731751200-1731758400@www.cduhamburgnord.de
SUMMARY:OV Winterhude - Infostand ("Tag der CDU")
DESCRIPTION:
URL:https://www.cduhamburgnord.de/termin/ov-winterhude-infostand-tag-der-cdu-7/
LOCATION:Winterhuder Marktplatz 21\, Hamburg
END:VEVENT
BEGIN:VEVENT
DTSTART;TZID=Europe/Berlin:20241116T100000
DTEND;TZID=Europe/Berlin:20241116T130000
DTSTAMP:20260421T211349
CREATED:20240912T124702Z
LAST-MODIFIED:20241018T120315Z
UID:10000792-1731751200-1731762000@www.cduhamburgnord.de
SUMMARY:OV Barmbek - Infostand ("Tag der CDU")
DESCRIPTION:
URL:https://www.cduhamburgnord.de/termin/ov-barmbek-infostand-14/
LOCATION:Fuhlsbüttler Straße 350\, Hamburg
END:VEVENT
BEGIN:VEVENT
DTSTART;TZID=Europe/Berlin:20241116T110000
DTEND;TZID=Europe/Berlin:20241116T130000
DTSTAMP:20260421T211349
CREATED:20240223T131529Z
LAST-MODIFIED:20240418T121814Z
UID:10000735-1731754800-1731762000@www.cduhamburgnord.de
SUMMARY:OV Alsterdorf - Infostand ("Tag der CDU")
DESCRIPTION:
URL:https://www.cduhamburgnord.de/termin/ov-alsterdorf-infostand-tag-der-cdu-3/
LOCATION:Alsterdorfer Straße 255\, Hamburg
END:VEVENT
BEGIN:VEVENT
DTSTART;TZID=Europe/Berlin:20241116T110000
DTEND;TZID=Europe/Berlin:20241116T130000
DTSTAMP:20260421T211349
CREATED:20240223T150330Z
LAST-MODIFIED:20240418T095157Z
UID:10000754-1731754800-1731762000@www.cduhamburgnord.de
SUMMARY:OV Groß Borstel - Infostand ("Tag der CDU")
DESCRIPTION:
URL:https://www.cduhamburgnord.de/termin/ov-gross-borstel-infostand-tag-der-cdu-2/
LOCATION:Borsteler Chaussee 119\, Hamburg
END:VEVENT
BEGIN:VEVENT
DTSTART;TZID=Europe/Berlin:20241116T110000
DTEND;TZID=Europe/Berlin:20241116T130000
DTSTAMP:20260421T211349
CREATED:20240905T104817Z
LAST-MODIFIED:20240917T145915Z
UID:10000865-1731754800-1731762000@www.cduhamburgnord.de
SUMMARY:OV Uhlenhorst/Hohenfelde - Infostand ("Tag der CDU")
DESCRIPTION:
URL:https://www.cduhamburgnord.de/termin/ov-uhlenhorst-hohenfelde-infostand-5/
LOCATION:Lübecker Straße 101\, Hamburg
END:VEVENT
BEGIN:VEVENT
DTSTART;TZID=Europe/Berlin:20241116T110000
DTEND;TZID=Europe/Berlin:20241116T130000
DTSTAMP:20260421T211349
CREATED:20240909T124713Z
LAST-MODIFIED:20240909T124816Z
UID:10000870-1731754800-1731762000@www.cduhamburgnord.de
SUMMARY:OV Eppendorf - Infostand ("Tag der CDU")
DESCRIPTION:
URL:https://www.cduhamburgnord.de/termin/ov-eppendorf-infostand-19/
LOCATION:Eppendorfer Landstraße 67\, Hamburg
END:VEVENT
END:VCALENDAR