BEGIN:VCALENDAR
VERSION:2.0
PRODID:-//CDU-Kreisverband Hamburg-Nord - ECPv6.15.19//NONSGML v1.0//EN
CALSCALE:GREGORIAN
METHOD:PUBLISH
X-ORIGINAL-URL:https://www.cduhamburgnord.de
X-WR-CALDESC:Veranstaltungen für CDU-Kreisverband Hamburg-Nord
REFRESH-INTERVAL;VALUE=DURATION:PT1H
X-Robots-Tag:noindex
X-PUBLISHED-TTL:PT1H
BEGIN:VTIMEZONE
TZID:Europe/Berlin
BEGIN:DAYLIGHT
TZOFFSETFROM:+0100
TZOFFSETTO:+0200
TZNAME:CEST
DTSTART:20240331T010000
END:DAYLIGHT
BEGIN:STANDARD
TZOFFSETFROM:+0200
TZOFFSETTO:+0100
TZNAME:CET
DTSTART:20241027T010000
END:STANDARD
BEGIN:DAYLIGHT
TZOFFSETFROM:+0100
TZOFFSETTO:+0200
TZNAME:CEST
DTSTART:20250330T010000
END:DAYLIGHT
BEGIN:STANDARD
TZOFFSETFROM:+0200
TZOFFSETTO:+0100
TZNAME:CET
DTSTART:20251026T010000
END:STANDARD
BEGIN:DAYLIGHT
TZOFFSETFROM:+0100
TZOFFSETTO:+0200
TZNAME:CEST
DTSTART:20260329T010000
END:DAYLIGHT
BEGIN:STANDARD
TZOFFSETFROM:+0200
TZOFFSETTO:+0100
TZNAME:CET
DTSTART:20261025T010000
END:STANDARD
BEGIN:DAYLIGHT
TZOFFSETFROM:+0100
TZOFFSETTO:+0200
TZNAME:CEST
DTSTART:20270328T010000
END:DAYLIGHT
BEGIN:STANDARD
TZOFFSETFROM:+0200
TZOFFSETTO:+0100
TZNAME:CET
DTSTART:20271031T010000
END:STANDARD
END:VTIMEZONE
BEGIN:VEVENT
DTSTART;TZID=Europe/Berlin:20260124T110000
DTEND;TZID=Europe/Berlin:20260124T130000
DTSTAMP:20260421T180708
CREATED:20251121T092531Z
LAST-MODIFIED:20251121T092531Z
UID:10001176-1769252400-1769259600@www.cduhamburgnord.de
SUMMARY:OV Uhlenhorst/Hohenfelde - Infostand
DESCRIPTION:
URL:https://www.cduhamburgnord.de/termin/ov-uhlenhorst-hohenfelde-infostand-27/
LOCATION:Schöne Aussicht Ecke Auguststraße\, Hamburg
END:VEVENT
BEGIN:VEVENT
DTSTART;TZID=Europe/Berlin:20250921T110000
DTEND;TZID=Europe/Berlin:20250921T130000
DTSTAMP:20260421T180708
CREATED:20250829T192918Z
LAST-MODIFIED:20250829T192918Z
UID:10001013-1758452400-1758459600@www.cduhamburgnord.de
SUMMARY:OV Uhlenhorst/Hohenfelde - Infostand ("Tag der CDU")
DESCRIPTION:
URL:https://www.cduhamburgnord.de/termin/ov-uhlenhorst-hohenfelde-infostand-tag-der-cdu-7/
LOCATION:Schöne Aussicht Ecke Auguststraße\, Hamburg
END:VEVENT
BEGIN:VEVENT
DTSTART;TZID=Europe/Berlin:20250629T110000
DTEND;TZID=Europe/Berlin:20250629T130000
DTSTAMP:20260421T180708
CREATED:20250526T093903Z
LAST-MODIFIED:20250526T093903Z
UID:10001088-1751194800-1751202000@www.cduhamburgnord.de
SUMMARY:OV Uhlenhorst/Hohenfelde - Infostand
DESCRIPTION:
URL:https://www.cduhamburgnord.de/termin/ov-uhlenhorst-hohenfelde-infostand-25/
LOCATION:Schöne Aussicht Ecke Auguststraße\, Hamburg
END:VEVENT
END:VCALENDAR